BEGIN:VCALENDAR
VERSION:2.0
PRODID:-//ChamberMaster//Event Calendar 2.0//EN
METHOD:PUBLISH
X-PUBLISHED-TTL:P3D
REFRESH-INTERVAL:P3D
CALSCALE:GREGORIAN
BEGIN:VEVENT
DTSTART:20200122T123000Z
DTEND:20200122T143000Z
X-MICROSOFT-CDO-ALLDAYEVENT:FALSE
SUMMARY:2020 21st Annual Legislative Breakfast
DESCRIPTION:Sponsored by AT&T\n\n\n\nHosted at Deloitte\n\n\n\nContinental Breakfast Included\n\nComplimentary Parking:\n\n\n\nParking\n\nEnter 695 E Main Street Parking Garage\n\nPark on levels P2\n\nTake the elevator to P2 Meeting Space
X-ALT-DESC;FMTTYPE=text/html:<u><strong>Sponsored by AT&amp\;T</strong></u><br />\n<br />\n<u><strong>Hosted at Deloitte</strong></u><br />\n<br />\nContinental Breakfast Included<br />\nComplimentary Parking:<br />\n<br />\n<u>Parking</u><br />\nEnter 695 E Main Street Parking Garage<br />\nPark on levels P2<br />\nTake the elevator to P2 Meeting Space
LOCATION:
UID:e.3530.1867
SEQUENCE:3
DTSTAMP:20260424T204928Z
URL:https://stamfordchamber-gzcms.preview.gochambermaster.com/events/details/21st-annual-legislative-breakfast-1867
END:VEVENT

END:VCALENDAR
