BEGIN:VCALENDAR
VERSION:2.0
PRODID:-//ChamberMaster//Event Calendar 2.0//EN
METHOD:PUBLISH
X-PUBLISHED-TTL:P3D
REFRESH-INTERVAL:P3D
CALSCALE:GREGORIAN
BEGIN:VEVENT
DTSTART:20220120T150000Z
DTEND:20220120T160000Z
X-MICROSOFT-CDO-ALLDAYEVENT:FALSE
SUMMARY:22nd Annual Legislative Breakfast
DESCRIPTION:
X-ALT-DESC;FMTTYPE=text/html:
LOCATION:Virtual Meeting - live streamed to all registrants! Hosted virtually at the offices of Deloitte\, Stamford Moderated by Harry Carey\, Director\, External Affairs for AT&T Don't miss this chance to hear from our Representatives!
UID:e.3530.2828
SEQUENCE:3
DTSTAMP:20260420T074520Z
URL:https://stamfordchamber-gzcms.preview.gochambermaster.com/events/details/22nd-annual-legislative-breakfast-2828
END:VEVENT

END:VCALENDAR
