BEGIN:VCALENDAR
VERSION:2.0
PRODID:-//ChamberMaster//Event Calendar 2.0//EN
METHOD:PUBLISH
X-PUBLISHED-TTL:P3D
REFRESH-INTERVAL:P3D
CALSCALE:GREGORIAN
BEGIN:VEVENT
DTSTART:20201021T210000Z
DTEND:20201021T230000Z
X-MICROSOFT-CDO-ALLDAYEVENT:FALSE
SUMMARY:2nd Annual Pink Fest
DESCRIPTION:Cocktails For A Cause\n\nOutdoors under the Marriott's covered Port Cochere.
X-ALT-DESC;FMTTYPE=text/html:<span style="color: rgb(51\, 51\, 51)\; font-family: arial\; font-size: 14px\; font-weight: 700\; background-color: rgb(255\, 255\, 255)\;">Cocktails For A Cause</span><br style="color: rgb(51\, 51\, 51)\; font-family: arial\; font-size: 14px\; font-weight: 700\; background-color: rgb(255\, 255\, 255)\;" />\n<span style="color: rgb(51\, 51\, 51)\; font-family: arial\; font-size: 14px\; font-weight: 700\; background-color: rgb(255\, 255\, 255)\;">Outdoors under the Marriott&#39\;s covered Port Cochere.</span>
LOCATION:Courtyard by Marriott Stamford Downtown 275 Summer Street\, Stamford
UID:e.3530.1919
SEQUENCE:3
DTSTAMP:20260423T190846Z
URL:https://stamfordchamber-gzcms.preview.gochambermaster.com/events/details/2nd-annual-pink-fest-1919
END:VEVENT

END:VCALENDAR
