BEGIN:VCALENDAR
VERSION:2.0
PRODID:-//ChamberMaster//Event Calendar 2.0//EN
METHOD:PUBLISH
X-PUBLISHED-TTL:P3D
REFRESH-INTERVAL:P3D
CALSCALE:GREGORIAN
BEGIN:VEVENT
DTSTART:20201214T000000Z
DTEND:20201214T010000Z
X-MICROSOFT-CDO-ALLDAYEVENT:FALSE
SUMMARY:Brass & Organ Virtual Christmas Concert
DESCRIPTION:John Sheppard and the New York Symphonic Brass will join us for this virtual concert\, celebrating its 30thyear.  Members of the First Presbyterian Church Stamford choir will sing carols\, and you are invited to sing along from home!  The concert can be viewed from the church's website.    https://www.fishchurch.org
X-ALT-DESC;FMTTYPE=text/html:John Sheppard and the New York Symphonic Brass will join us for this virtual concert\, celebrating its 30<sup>th</sup>year.&nbsp\;&nbsp\;Members of the First Presbyterian Church Stamford choir will sing carols\, and you are invited to sing along from home!&nbsp\;&nbsp\;The concert can be viewed from the church&rsquo\;s website.&nbsp\;&nbsp\;&nbsp\;&nbsp\;<a href="https://www.fishchurch.org/" style="color:rgb(149\, 79\, 114)\;">https://www.fishchurch.org</a>
LOCATION:This is an online concert.
UID:e.3530.2729
SEQUENCE:3
DTSTAMP:20260423T204323Z
URL:https://stamfordchamber-gzcms.preview.gochambermaster.com/events/details/brass-organ-virtual-christmas-concert-2729
END:VEVENT

END:VCALENDAR
