BEGIN:VCALENDAR
VERSION:2.0
PRODID:-//ChamberMaster//Event Calendar 2.0//EN
METHOD:PUBLISH
X-PUBLISHED-TTL:P3D
REFRESH-INTERVAL:P3D
CALSCALE:GREGORIAN
BEGIN:VEVENT
DTSTART:20211231T220000Z
DTEND:20220101T063000Z
X-MICROSOFT-CDO-ALLDAYEVENT:FALSE
SUMMARY:Come celebrate New Beginnings and welcome in 2022 with us at the Waters Edge at Giovanni’s.
DESCRIPTION:WE HAVE 2 WAYS TO CELEBRATE.\n\nCome for Dinner and enjoy the BEST Steaks\, Lobster\, Pasta and more. The New Year's Eve Dance Party is included with dinner\, so please join us after dinner in the Swan Ballroom starting at 8:00 pm to dance in the New Year with DJ Tommy Carlucci. Enjoy the Dessert Table\, Coffee and Champagne Toast\, plus a Continental Breakfast after midnight.\n\nOnline Reservations\n\nhttps://www.opentable.com/r/the-waters-edge-at-giovannis-reservations-darien?restref=60793&lang=en-US&ot_source=Restaurant%20website\n\nPhone Reservations\n\n203.325.9979\n\n \n\nAlready have dinner plans. Join us for just the party starting at 10 p.m.!\n\nDJ Tommy Carlucci will be spinning your favorite dance hits. Enjoy the Dessert Table\, Coffee and Champagne Toast\, plus a Continental Breakfast after midnight. We have large screen TVs counting down to NYE from all around the world. \n\nThe cost is $50 per person + service charge\, tax & fees. if you come for the Dance party only.\n\nTo purchase only the 10:00 pm Dance Party Tickets on Eventbrite.\n\nhttps://www.eventbrite.com/e/225451410237
X-ALT-DESC;FMTTYPE=text/html:<div><span style="color:#800000"><strong>WE HAVE 2 WAYS TO CELEBRATE.</strong></span><br />\nCome for Dinner and enjoy the BEST Steaks\, Lobster\, Pasta and more. The New Year&rsquo\;s Eve Dance Party is included with dinner\, so please join us after dinner in the Swan Ballroom starting at 8:00 pm to dance in the New Year with DJ Tommy Carlucci. Enjoy the Dessert Table\, Coffee and Champagne Toast\, plus a Continental Breakfast after midnight.</div>\n\n<div><span style="color:#800000"><strong>Online Reservations</strong></span><br />\n<a class="oajrlxb2 g5ia77u1 qu0x051f esr5mh6w e9989ue4 r7d6kgcz rq0escxv nhd2j8a9 nc684nl6 p7hjln8o kvgmc6g5 cxmmr5t8 oygrvhab hcukyx3x jb3vyjys rz4wbd8a qt6c0cv9 a8nywdso i1ao9s8h esuyzwwr f1sip0of lzcic4wl gpro0wi8 py34i1dx" href="https://www.opentable.com/r/the-waters-edge-at-giovannis-reservations-darien?restref=60793&amp\;lang=en-US&amp\;ot_source=Restaurant%20website&amp\;fbclid=IwAR0qKUNOFiIHz9EjFSIQZdp2P8K4V0r6TozzXnsLPQmIMZuzMnT0l-UT9bc" rel="nofollow noopener" style="color: var(--blue-link)\; cursor: pointer\; text-decoration: none\; outline: none\; list-style: none\; border: 0px\; padding: 0px\; margin: 0px\; touch-action: manipulation\; text-align: inherit\; display: inline\; box-sizing: border-box\; font-family: inherit\;" tabindex="0" target="_blank">https://www.opentable.com/r/the-waters-edge-at-giovannis-reservations-darien?restref=60793&amp\;lang=en-US&amp\;ot_source=Restaurant%20website</a></div>\n\n<div><span style="color:#800000"><strong>Phone Reservations</strong></span><br />\n203.325.9979<br />\n&nbsp\;</div>\n\n<div><em><span style="color:#800000"><strong>Already have dinner plans. Join us for just the party starting at 10 p.m.!</strong></span></em></div>\n\n<div>DJ Tommy Carlucci will be spinning your favorite dance hits. Enjoy the Dessert Table\, Coffee and Champagne Toast\, plus a Continental Breakfast after midnight. We have large screen TVs counting down to NYE from all around the world.&nbsp\;</div>\n\n<div>The cost is $50 per person + service charge\, tax &amp\; fees. if you come for the Dance party only.</div>\n\n<div><span style="color:#800000"><strong>To purchase only the 10:00 pm Dance Party Tickets on Eventbrite.</strong></span><br />\nhttps://www.eventbrite.com/e/225451410237</div>\n<br />\n&nbsp\;
LOCATION:2748 BOSTON POST ROAD\, DARIEN CT 06820
UID:e.3530.2832
SEQUENCE:3
DTSTAMP:20260420T093244Z
URL:https://stamfordchamber-gzcms.preview.gochambermaster.com/events/details/come-celebrate-new-beginnings-and-welcome-in-2022-with-us-at-the-waters-edge-at-giovanni-s-2832
END:VEVENT

END:VCALENDAR
