BEGIN:VCALENDAR
VERSION:2.0
PRODID:-//ChamberMaster//Event Calendar 2.0//EN
METHOD:PUBLISH
X-PUBLISHED-TTL:P3D
REFRESH-INTERVAL:P3D
CALSCALE:GREGORIAN
BEGIN:VEVENT
DTSTART:20220712T143000Z
DTEND:20220712T180000Z
X-MICROSOFT-CDO-ALLDAYEVENT:FALSE
SUMMARY:Grand Launch & Ribbon Cutting of Pure Chateau Wellness Medspa
DESCRIPTION:We have amazing news to share with the community and our followers! Please Join us for this special event as Pure Chateau Wellness Medspa opens its doors. We are hosting a Grand Launch Event and you will have the chance to attend our ?? Cutting ceremony. We are so excited and look forward to seeing you. Please RSVP at the EventBrite link below. \n\n\n\nhttps://www.eventbrite.com/e/pure-chateau-wellness-medspa-grand-launch-ribbon-cutting-tickets-377628235217?utm-campaign=social&utm-content=attendeeshare&utm-medium=discovery&utm-term=listing&utm-source=cp&aff=escb www.purechateau.org
X-ALT-DESC;FMTTYPE=text/html:<span style="color:rgb(5\, 5\, 5)\; font-family:system-ui\,-apple-system\,system-ui\,.sfnstext-regular\,sans-serif\; font-size:15px">We have amazing news to share with the community and our followers! Please Join us for this special event as Pure Chateau Wellness Medspa opens its doors. We are hosting a Grand Launch Event and you will have the chance to attend our ?? Cutting ceremony. We are so excited and look forward to seeing you. Please RSVP at the EventBrite link below. </span><br />\n<br />\n<span style="color:var(--blue-link)\; font-family:system-ui\,-apple-system\,system-ui\,.sfnstext-regular\,sans-serif\; font-size:15px">https://www.eventbrite.com/e/pure-chateau-wellness-medspa-grand-launch-ribbon-cutting-tickets-377628235217?utm-campaign=social&amp\;utm-content=attendeeshare&amp\;utm-medium=discovery&amp\;utm-term=listing&amp\;utm-source=cp&amp\;aff=escb</span><span style="color:rgb(5\, 5\, 5)\; font-family:system-ui\,-apple-system\,system-ui\,.sfnstext-regular\,sans-serif\; font-size:15px"> </span><span style="color:var(--blue-link)\; font-family:system-ui\,-apple-system\,system-ui\,.sfnstext-regular\,sans-serif\; font-size:15px">www.purechateau.org</span><span style="color:rgb(5\, 5\, 5)\; font-family:system-ui\,-apple-system\,system-ui\,.sfnstext-regular\,sans-serif\; font-size:15px">&nbsp\;</span>
LOCATION:3000 Summer St Stamford\, CT 06905
UID:e.3530.2898
SEQUENCE:3
DTSTAMP:20260419T145713Z
URL:https://stamfordchamber-gzcms.preview.gochambermaster.com/events/details/grand-launch-ribbon-cutting-of-pure-chateau-wellness-medspa-2898
END:VEVENT

END:VCALENDAR
