BEGIN:VCALENDAR
VERSION:2.0
PRODID:-//ChamberMaster//Event Calendar 2.0//EN
METHOD:PUBLISH
X-PUBLISHED-TTL:P3D
REFRESH-INTERVAL:P3D
CALSCALE:GREGORIAN
BEGIN:VEVENT
DTSTART:20191215T210000Z
DTEND:20191215T220000Z
X-MICROSOFT-CDO-ALLDAYEVENT:FALSE
SUMMARY:Noel with Stamford Symphony Brass
DESCRIPTION:Noel! with Stamford Symphony Brass\n\n\n\nSonorous brass of Bach and Gabrieli\, sing-a-long favorites\, Carols and a visit from Santa!                                    Fun for all the family!\n\nSunday\, December 15 at 4:00pm\n\nSt John's Episcopal Church\n\n628 Main Street\, Stamford.\n\n\n\nUse booking code: "engagement" to receive a 50% discount. KIDS COME FREE\n\nDetails at www.stamfordsymphony.org or call the box office at 203.325.4466
X-ALT-DESC;FMTTYPE=text/html:<p><em><strong>Noel! </strong></em>with Stamford Symphony Brass<br />\n<br />\nSonorous brass of Bach and Gabrieli\, sing-a-long favorites\, Carols and a visit from Santa!&nbsp\; &nbsp\; &nbsp\; &nbsp\; &nbsp\; &nbsp\; &nbsp\; &nbsp\; &nbsp\; &nbsp\; &nbsp\; &nbsp\; &nbsp\; &nbsp\; &nbsp\; &nbsp\; &nbsp\; &nbsp\; Fun for all the family!</p>\n\n<p>Sunday\, December 15 at 4:00pm<br />\nSt John&#39\;s Episcopal Church<br />\n628 Main Street\, Stamford.<br />\n<br />\nUse booking code: &quot\;engagement&quot\; to receive a 50% discount. KIDS COME FREE<br />\nDetails at www.stamfordsymphony.org or call the box office at 203.325.4466<br />\n&nbsp\;</p>\n
LOCATION:St John's Episcopal Church 628 Main Street\, Stamford.
UID:e.3530.1878
SEQUENCE:3
DTSTAMP:20260424T223026Z
URL:https://stamfordchamber-gzcms.preview.gochambermaster.com/events/details/noel-with-stamford-symphony-brass-1878
END:VEVENT

END:VCALENDAR
