BEGIN:VCALENDAR
VERSION:2.0
PRODID:-//ChamberMaster//Event Calendar 2.0//EN
METHOD:PUBLISH
X-PUBLISHED-TTL:P3D
REFRESH-INTERVAL:P3D
CALSCALE:GREGORIAN
BEGIN:VEVENT
DTSTART:20220405T150000Z
DTEND:20220405T170000Z
X-MICROSOFT-CDO-ALLDAYEVENT:FALSE
SUMMARY:Premier Auto Tag Service's Red Ribbon Cutting Ceremony
DESCRIPTION:After a difficult two years\, we are happy to have something to celebrate! \n\n\n\nCome join us at our new Premier Auto Tag Services' office for our Red Ribbon Cutting Ceremony.
X-ALT-DESC;FMTTYPE=text/html:After a difficult two years\, we are happy to have something to celebrate!&nbsp\;<br />\n<br />\nCome join us at our new Premier Auto Tag Services&#39\; office for our Red Ribbon Cutting Ceremony.&nbsp\;
LOCATION:2777 Summer Street\, Suite 206 Stamford\, CT 06905
UID:e.3530.2866
SEQUENCE:3
DTSTAMP:20260420T030905Z
URL:https://stamfordchamber-gzcms.preview.gochambermaster.com/events/details/premier-auto-tag-service-s-red-ribbon-cutting-ceremony-2866
END:VEVENT

END:VCALENDAR
