BEGIN:VCALENDAR
VERSION:2.0
PRODID:-//ChamberMaster//Event Calendar 2.0//EN
METHOD:PUBLISH
X-PUBLISHED-TTL:P3D
REFRESH-INTERVAL:P3D
CALSCALE:GREGORIAN
BEGIN:VEVENT
DTSTART;VALUE=DATE:20211105
DTEND;VALUE=DATE:20211125
TRANSP:TRANSPARENT
X-MICROSOFT-CDO-ALLDAYEVENT:TRUE
SUMMARY:Shine a Light on Hunger
DESCRIPTION:Filling in the Blanks' luminary event "Shine a Light on Hunger" is on November 24th! Purchase your luminary bag today to support Filling in the Blanks and the children we serve https://one.bidpal.net/shinealightonhunger/welcome
X-ALT-DESC;FMTTYPE=text/html:Filling in the Blanks&#39\; luminary event &quot\;Shine a Light on Hunger&quot\; is on November 24th! Purchase your luminary bag today to support Filling in the Blanks and the children we serve <a href="https://one.bidpal.net/shinealightonhunger/welcome"><span style="color:#dca10d">https://one.bidpal.net/shinealightonhunger/welcome</span></a>
LOCATION:
UID:e.3530.2823
SEQUENCE:3
DTSTAMP:20260421T060528Z
URL:https://stamfordchamber-gzcms.preview.gochambermaster.com/events/details/shine-a-light-on-hunger-2823
END:VEVENT

END:VCALENDAR
