BEGIN:VCALENDAR
VERSION:2.0
PRODID:-//ChamberMaster//Event Calendar 2.0//EN
METHOD:PUBLISH
X-PUBLISHED-TTL:P3D
REFRESH-INTERVAL:P3D
CALSCALE:GREGORIAN
BEGIN:VEVENT
DTSTART:20200311T213000Z
DTEND:20200311T230000Z
X-MICROSOFT-CDO-ALLDAYEVENT:FALSE
SUMMARY:Sound Tigers
DESCRIPTION:
X-ALT-DESC;FMTTYPE=text/html:
LOCATION:Stags Club 600 Main Street Bridgeport\, CT
UID:e.3530.1108
SEQUENCE:3
DTSTAMP:20260424T142643Z
URL:https://stamfordchamber-gzcms.preview.gochambermaster.com/events/details/sound-tigers-01-10-2018-1108
END:VEVENT

END:VCALENDAR
