BEGIN:VCALENDAR
VERSION:2.0
PRODID:-//ChamberMaster//Event Calendar 2.0//EN
METHOD:PUBLISH
X-PUBLISHED-TTL:P3D
REFRESH-INTERVAL:P3D
CALSCALE:GREGORIAN
BEGIN:VEVENT
DTSTART;VALUE=DATE:20220208
DTEND;VALUE=DATE:20220209
TRANSP:TRANSPARENT
X-MICROSOFT-CDO-ALLDAYEVENT:TRUE
SUMMARY:SOUPERBOWL CHALLENGE
DESCRIPTION:Back by popular demand Filling in the Blanks will be holding its third annual SouperBowl Challenge.  A Weekend Meal Bag staple\, let's help them restock their inventory of kid-favorite soups for local kids in need.  Who will win this year?  Returning champion Chicken Noodle or underdog Tomato?  Visit their virtual food drive here and support your favorite soup. Fillingintheblanks.org\n\nLink:  \n\nhttps://www.amazon.com/registries/custom/1EW7UWYXN85L2/guest-view \n\nFilling in the Blanks\n\n346 Main Ave. Suite #3A\n\nNorwalk\, CT  06851\n\nOffice:  203-750-0019 \n\nCell:  917-597-0038\n\nwww.fillingintheblanks.org
X-ALT-DESC;FMTTYPE=text/html:<div><span style="font-size:11pt">Back by popular demand Filling in the Blanks will be holding its third annual SouperBowl Challenge.&nbsp\; A Weekend Meal Bag staple\, let&#39\;s help them restock their inventory of kid-favorite soups for local kids in need.&nbsp\; Who will win this year?&nbsp\; Returning champion Chicken Noodle or underdog Tomato?&nbsp\; Visit their virtual food drive here and support your favorite soup. Fillingintheblanks.org</span></div>\n\n<div><span style="font-size:11pt">Link:&nbsp\;&nbsp\;</span><br />\n<a href="https://www.amazon.com/registries/custom/1EW7UWYXN85L2/guest-view" style="color:rgb(17\, 85\, 204)\;" target="_blank">https://www.amazon.com/registries/custom/1EW7UWYXN85L2/guest-view</a>&nbsp\;<br />\n<span style="font-family:calibri light\,sans-serif"><span style="font-size:10pt">Filling in the Blanks</span></span><br />\n<span style="font-family:calibri light\,sans-serif"><span style="font-size:10pt">346 Main Ave. Suite #3A</span></span><br />\n<span style="font-family:calibri light\,sans-serif"><span style="font-size:10pt">Norwalk\, CT&nbsp\; 06851</span></span><br />\n<span style="font-family:calibri light\,sans-serif"><span style="font-size:10pt">Office:&nbsp\; 203-750-0019&nbsp\;</span></span><br />\n<span style="font-family:calibri light\,sans-serif"><span style="font-size:10pt">Cell:&nbsp\; 917-597-0038</span></span><br />\n<span style="font-size:11pt"><a href="http://www.fillingintheblanks.org/" style="color:rgb(17\, 85\, 204)\;" target="_blank"><span style="color:#0563c1">www.fillingintheblanks.org</span></a></span></div>\n
LOCATION:
UID:e.3530.2848
SEQUENCE:3
DTSTAMP:20260420T074717Z
URL:https://stamfordchamber-gzcms.preview.gochambermaster.com/events/details/souperbowl-challenge-02-08-2022-2848
END:VEVENT

END:VCALENDAR
