BEGIN:VCALENDAR
VERSION:2.0
PRODID:-//ChamberMaster//Event Calendar 2.0//EN
METHOD:PUBLISH
X-PUBLISHED-TTL:P3D
REFRESH-INTERVAL:P3D
CALSCALE:GREGORIAN
BEGIN:VEVENT
DTSTART:20220309T233000Z
DTEND:20220310T040000Z
X-MICROSOFT-CDO-ALLDAYEVENT:FALSE
SUMMARY:The Waters Edge at Giovanni's presents wines by Rombauer Vineyards-Wine Dinner
DESCRIPTION:March 9th @ 6:30 PM ~ Limited Seating\n\n$85 per person (plus service charge\, tax and fees)\n\n \n\nPlease join us for a 5-course wine dinner and discover the best that Rombauer Vineyards has to offer. They have been producing acclaimed wines from Napa Valley and the Sierra Foothills since 1980. Stay tuned we are curating a magical menu that will pair perfectly with the Rombauer wines selected.\n\n \n\nAbout Rombauer Vineyards: They are family owned and operated\, the winery is known for its high-quality wines\, exceptional vineyard sites\, and family-style hospitality. At Rombauer Vineyards they believe it's an honor and responsibility to be good stewards of their vineyards as they strive to make the finest wines. Rombauer Vineyards use sustainable practices whenever possible in the vineyards and at the winery to protect and preserve the land for future generations.
X-ALT-DESC;FMTTYPE=text/html:<span style="font-family:roboto">March 9th @ 6:30 PM ~ Limited Seating</span><br />\n<span style="font-family:roboto">$85 per person (plus service charge\, tax and fees)</span><br />\n&nbsp\;<br />\n<span style="font-family:roboto">Please join us for a 5-course wine dinner and discover the best that Rombauer Vineyards has to offer. They have been producing acclaimed wines from Napa Valley and the Sierra Foothills since 1980.&nbsp\;<strong><em>Stay tuned we are curating a magical menu that will pair perfectly with the Rombauer wines selected.</em></strong></span><br />\n&nbsp\;<br />\n<em><span style="font-family:roboto">About Rombauer Vineyards: They are family owned and operated\, the winery is known for its&nbsp\;<strong>high-quality wines</strong>\,&nbsp\;<strong>exceptional vineyard sites</strong>\, and f<strong>amily-style hospitality</strong>. At Rombauer Vineyards they believe it&rsquo\;s an&nbsp\;<strong>honor&nbsp\;</strong>and&nbsp\;<strong>responsibility</strong>&nbsp\;to be good stewards of their vineyards as they strive to make the finest wines. Rombauer Vineyards use&nbsp\;<strong>sustainable practices&nbsp\;</strong>whenever possible in the vineyards and at the winery to&nbsp\;<strong>protect and preserve the land for future generations.</strong></span></em><br />\n&nbsp\;<br />\n&nbsp\;
LOCATION:2748 BOSTON POST ROAD\, DARIEN CT 06820
UID:e.3530.2856
SEQUENCE:3
DTSTAMP:20260420T063455Z
URL:https://stamfordchamber-gzcms.preview.gochambermaster.com/events/details/the-waters-edge-at-giovanni-s-presents-wines-by-rombauer-vineyards-wine-dinner-2856
END:VEVENT

END:VCALENDAR
