BEGIN:VCALENDAR
VERSION:2.0
PRODID:-//ChamberMaster//Event Calendar 2.0//EN
METHOD:PUBLISH
X-PUBLISHED-TTL:P3D
REFRESH-INTERVAL:P3D
CALSCALE:GREGORIAN
BEGIN:VEVENT
DTSTART:20220326T150000Z
DTEND:20220326T190000Z
X-MICROSOFT-CDO-ALLDAYEVENT:FALSE
SUMMARY:UNIQUE Concert for Special Learners: Wonderful World of Animals
DESCRIPTION:Concordia Conservatory's UNIQUE Series presents "Wonderful World of Animals" on Saturday\, March 26 at Concordia Conservatory\, 884 Newfield Avenue\, Stamford. The UNIQUE Series is an interactive\, 30-minute concert experience created for learners with special needs and their families and caregivers. Featuring music from Carnival of the Animals by Camille Saint-Sa ns\, the concert is performed by members of the Stamford Symphony and hosted by Liz Ast\, music therapy faculty at Concordia Conservatory. Liz will engage audiences with elements of music therapy and family friendly humor while making classical music accessible to the students. The concert schedule is as follows: 11 am & 12 pm Elementary students 1:30 pm Middle School students 2:30 pm High School students Series Artistic Director\, Elizabeth Lim-Dutton\, a violinist with the Stamford Symphony\, worked closely with Concordia Conservatory's Executive Director Kathleen Suss and Nicolas Gonzalez\, Community Engagement and Education Manager for the Stamford Symphony\, to bring this truly "unique" series to the community. Conservatory staff Kathleen Moriarty and Lilly Slaughter serve as Series Ambassadors. Concordia Conservatory\, which in 2019 incorporated the music and art therapy provider Arts for Healing\, is well-versed in providing music therapy and its wealth of developmental benefits. The Conservatory currently provides weekly music and art therapy classes to the Stamford and Norwalk Public Schools\, serving 450 students ages 5 to 22. UNIQUE Series concert tickets are $5 for children/seniors and $10 for adults. To purchase\, visit www.concordiaconservatory.org or call 203-595-5059 or 914-395-4507. Concordia Conservatory's mission is to inspire\, instruct\, and enrich lives through music offering excellence in education and performance.
X-ALT-DESC;FMTTYPE=text/html:Concordia Conservatory&rsquo\;s UNIQUE Series presents &ldquo\;Wonderful World of Animals&rdquo\; on Saturday\, March 26 at Concordia Conservatory\, 884 Newfield Avenue\, Stamford. The UNIQUE Series is an interactive\, 30-minute concert experience created for learners with special needs and their families and caregivers. Featuring music from Carnival of the Animals by Camille Saint-Sa&euml\;ns\, the concert is performed by members of the Stamford Symphony and hosted by Liz Ast\, music therapy faculty at Concordia Conservatory. Liz will engage audiences with elements of music therapy and family friendly humor while making classical music accessible to the students. The concert schedule is as follows: 11 am &amp\; 12 pm Elementary students 1:30 pm Middle School students 2:30 pm High School students Series Artistic Director\, Elizabeth Lim-Dutton\, a violinist with the Stamford Symphony\, worked closely with Concordia Conservatory&rsquo\;s Executive Director Kathleen Suss and Nicolas Gonzalez\, Community Engagement and Education Manager for the Stamford Symphony\, to bring this truly &ldquo\;unique&rdquo\; series to the community. Conservatory staff Kathleen Moriarty and Lilly Slaughter serve as Series Ambassadors. Concordia Conservatory\, which in 2019 incorporated the music and art therapy provider Arts for Healing\, is well-versed in providing music therapy and its wealth of developmental benefits. The Conservatory currently provides weekly music and art therapy classes to the Stamford and Norwalk Public Schools\, serving 450 students ages 5 to 22. UNIQUE Series concert tickets are $5 for children/seniors and $10 for adults. To purchase\, visit www.concordiaconservatory.org or call 203-595-5059 or 914-395-4507. Concordia Conservatory&rsquo\;s mission is to inspire\, instruct\, and enrich lives through music offering excellence in education and performance.
LOCATION:Concordia Conservatory Stamford 884 Newfield Avenue Stamford\, CT 06905
UID:e.3530.2864
SEQUENCE:3
DTSTAMP:20260420T044739Z
URL:https://stamfordchamber-gzcms.preview.gochambermaster.com/events/details/unique-concert-for-special-learners-wonderful-world-of-animals-2864
END:VEVENT

END:VCALENDAR
